BEGIN:VCALENDAR
VERSION:2.0
PRODID:-//ExpressionEngine Easy iCalendar plugin//NONSGML v2.0.0//EN
X-WR-TIMEZONE:America/New_York
X-WR-CALNAME:Upcoming Auctions
BEGIN:VEVENT
UID:45768
DTSTAMP:20200102T110000
DTSTART:20200102T110000
DTEND:20200129T200000
SUMMARY:Jewelry | January 29\, 2020 at 8:00 PM
LOCATION:501 Fairgrounds Road\, Hatfield\, PA 19440\, US
DESCRIPTION:Bid online now through auction close on Wednesday\, January 2
 9th at 8:00 PM. Lots will begin closing at a rate of 5 lots 
 per minute. ​This auction offers an eclectic mix with a no
 stalgic touch of Victorian\, Deco\, Nouveau and mid-century le
 ading up to today’s modern style. Also included is a selec
 tion of fine gold and sterling silver along with costume jew
 elry\, watches and loose gemstones. Find a large selection of
  watches including Omega\, Hamilton\, Elgin and Wittnauer and 
 the more contemporary Invicta and Seiko. Designer names incl
 ude Simon Sabbag and Miriam Haskell\, Trifari and Renoir Mati
 sse. There are also period and locale pieces including cameo
 s\, scarabs\, malachite and turquoise.
URL:https://www.alderferauction.com/auctions/detail/jewelry-janu
 ary-29-2020-at-800-pm-bw45768
SEQUENCE:1
END:VEVENT
END:VCALENDAR