BEGIN:VCALENDAR
VERSION:2.0
PRODID:-//ExpressionEngine Easy iCalendar plugin//NONSGML v2.0.1//EN
X-WR-TIMEZONE:America/New_York
X-WR-CALNAME:Upcoming Auctions
BEGIN:VEVENT
UID:49484
DTSTAMP:20200422T190000
DTSTART:20200422T190000
DTEND:20200506T200000
SUMMARY:Jewelry from the Estate of Wesley Emmons\, Philadelphia\, PA |
  May 6\, 2020 at 8:00 PM
LOCATION:501 Fairgrounds Road\, Hatfield\, PA 19440\, US
DESCRIPTION:Bid online now through May 6th. This auction will begin clos
 ing at 8:00 PM at a rate of 5 lots per minute. 150 lots from
  the Estate of Jewelry Designer\, Craftsman and Dealer Wesley
  Emmons of Philadelphia\, PA. This is the first of several
  auctions Alderfer has planned for the jeweler's estate. In 
 June Alderfer Auction will feature many of his one of a kind
 \, original hand crafted silver and gold creations. A graduat
 e of The University of the Arts\, a portion of the procee
 ds of his estate will be contributed to the scholarship fun
 d in his name.
URL:https://www.alderferauction.com/auctions/detail/jewelry-from
 -the-estate-of-wesley-emmons-philadelphia-pa-may-bw49484
SEQUENCE:1
END:VEVENT
END:VCALENDAR