BEGIN:VCALENDAR
VERSION:2.0
PRODID:-//ExpressionEngine Easy iCalendar plugin//NONSGML v2.0.1//EN
X-WR-TIMEZONE:America/New_York
X-WR-CALNAME:Upcoming Auctions
BEGIN:VEVENT
UID:89336
DTSTAMP:20220922T170000
DTSTART:20220922T170000
DTEND:20221005T200300
SUMMARY:Tools and Equipment | October 5\, 2022 at 8:00 PM
LOCATION:501 Fairgrounds Road\, Hatfield\, PA 19440\, US
DESCRIPTION:Shop Alderfer's Tools and Equipment auction that features a 
 Honeywell generator\, Ryobi pressure washer\, Stihl and Husqva
 rna yard equipment\, Rigid miter saw\, Dewalt scroll saw\, Litt
 le Giant extension ladder\, and Porter cables. Craftsman offe
 rings include air compressors\, bandsaws\, jointer\, grinder\, d
 rill presses\, a snowblower\, and tool cabinets. Power drills\,
  air nailers\, vices\, along with many other items round out t
 he sale.
URL:https://www.alderferauction.com/auctions/detail/bw89336
SEQUENCE:1
END:VEVENT
END:VCALENDAR