BEGIN:VCALENDAR
VERSION:2.0
PRODID:-//ExpressionEngine Easy iCalendar plugin//NONSGML v2.0.1//EN
X-WR-TIMEZONE:America/New_York
X-WR-CALNAME:Upcoming Auctions
BEGIN:VEVENT
UID:64598
DTSTAMP:20210610T120007
DTSTART:20210610T120007
DTEND:20210610T130007
SUMMARY:Fine and Decorative Arts | June 10\, 2021 at 12:00 PM
LOCATION:501 Fairgrounds Road\, Hatfield\, PA 19440\, US
DESCRIPTION:Presenting our quarterly Fine and Decorative Arts auction\, c
 urated by our specialists\, featuring collections of fine jew
 elry\, Tiffany silver\, decor\, furniture\, Persian rugs\, and ar
 twork. Some highlighted offerings include a 14KY diamond and
  emerald ring\, diamond and pearl necklace\, an Art Deco Rolan
 d Paris lamp\, museum quality model ships\, 18th c. Sampler\, M
 eissen candelabra\, Birger Kaipiainen ceramics\, Black Forest 
 hunter’s clock\, and a Steinway Baby Grand Piano. Continent
 al\, Federal\, and Mid-century modern furniture to include mak
 ers George Nakashima and R.J. Horner. Val Bertoia sonambient
  sound sculptures along with artwork by George Sotter\, Walte
 r Baum\, Albert Van Nesse Greene\, Ranulph Bye\, Berenice Abbot
 t\, and James Abbott McNeill Whistler.
URL:https://www.alderferauction.com/auctions/detail/bw64598
SEQUENCE:1
END:VEVENT
END:VCALENDAR