BEGIN:VCALENDAR
VERSION:2.0
PRODID:-//ExpressionEngine Easy iCalendar plugin//NONSGML v2.0.0//EN
X-WR-TIMEZONE:America/New_York
X-WR-CALNAME:Upcoming Auctions
BEGIN:VEVENT
UID:56471
DTSTAMP:20201110T120001
DTSTART:20201110T120001
DTEND:20201110T130001
SUMMARY:Coin and Currency | November 10\, 2020 at 12:00 PM
LOCATION:501 Fairgrounds Road\, Hatfield\, PA 19440\, US
DESCRIPTION:Auction is now open for pre-bidding until Tuesday\, November 
 10th at 12:00 PM\, at which time pre-bidding will cease and t
 he auction will go live at the auction center (no live audie
 nce\, just our auctioneer and auction staff). When the auctio
 n goes live\, lots will be sold one at a time\, in numerical o
 rder\, by a live auctioneer who will be taking bids from mult
 iple online bidding platforms\, absentee and phone bids. Duri
 ng pre-bidding you are able to submit a max (maximum) bid. T
 he bidding platform or our auction staff will bid on your be
 half up to the maximum bid that you have entered. Once the a
 uction goes live if you wish to increase your bid you will h
 ave to wait until that lot opens for bidding and enter any a
 dditional bids manually.
URL:https://www.alderferauction.com/auctions/detail/bw56471
SEQUENCE:1
END:VEVENT
END:VCALENDAR