BEGIN:VCALENDAR
VERSION:2.0
PRODID:-//ExpressionEngine Easy iCalendar plugin//NONSGML v2.0.0//EN
X-WR-TIMEZONE:America/New_York
X-WR-CALNAME:Upcoming Auctions
BEGIN:VEVENT
UID:160803
DTSTAMP:20260501T100000
DTSTART:20260501T100000
DTEND:20260501T110000
SUMMARY:Estate Sale Services by Alderfer Auction
LOCATION:{location}
DESCRIPTION:Life transitions like downsizing\, moving\, or settling an est
 ate are emotionally and logistically complex. Alderfer Aucti
 on provides a compassionate\, professional partnership to han
 dle your personal property with the respect it deserves. Wh
 y Choose Alderfer Auction? We remove the burden from your f
 amily by managing every detail of your estate sale. Our expe
 rt team ensures a stress-free experience\, maximizing the val
 ue of your items while honoring your needs. Ready to start?
  Contact us today at 215-393-3000. Now scheduling Estate S
 ales for May! We are proud to serve Montgomery\, Bucks\, Ches
 ter\, Delaware\, and North Jersey\, along with surrounding coun
 ties.
URL:https://www.alderferauction.com/auctions/detail/bw160803
SEQUENCE:1
END:VEVENT
END:VCALENDAR