BEGIN:VCALENDAR
VERSION:2.0
PRODID:-//ExpressionEngine Easy iCalendar plugin//NONSGML v2.0.1//EN
X-WR-TIMEZONE:America/New_York
X-WR-CALNAME:Upcoming Auctions
BEGIN:VEVENT
UID:160233
DTSTAMP:20260424T140000
DTSTART:20260424T140000
DTEND:20260507T200300
SUMMARY:Toys and Trains | May 7\, 2026 at 8:00 PM
LOCATION:{location}
DESCRIPTION:This Toys and Trains Auction features model trains\, die-cast
  vehicles\, model kits\, and vintage toys with brands includin
 g Lionel\, MTH RailKing\, Tonka\, Buddy L\, Hess\, Revell\, Aurora
 \, Lindberg\, AMT\, MPC\, Matchbox\, Hot Wheels\, Tyco\, GI Joe\, an
 d Star Wars. Train offerings include Lionel locomotives\, tra
 in sets\, rolling stock\, track\, and transformers\, along with 
 MTH RailKing trains and HO scale train lots. Vehicle categor
 ies include Tonka trucks\, Buddy L vehicles\, Hess trucks\, and
  die-cast cars from Matchbox and Hot Wheels. Model kits incl
 ude Revell\, Aurora\, Lindberg\, AMT\, and MPC kits featuring ai
 rcraft\, cars\, boats\, and military models. Additional toys in
 clude Tyco slot cars\, GI Joe figures\, Star Wars toys\, Wresti
 ng collectibles\, Steiff stuffed animals\, and more. The catal
 og also includes board games\, collecting cards\, comic books\,
  die-cast buses\, and Coca-Cola themed vehicles. This auction
  offers a wide selection of trains\, vehicles\, model kits\, an
 d collectible toys across multiple brands and categories.
URL:https://www.alderferauction.com/auctions/detail/bw160233
SEQUENCE:1
END:VEVENT
END:VCALENDAR