BEGIN:VCALENDAR
VERSION:2.0
PRODID:-//ExpressionEngine Easy iCalendar plugin//NONSGML v2.0.1//EN
X-WR-TIMEZONE:America/New_York
X-WR-CALNAME:Upcoming Auctions
BEGIN:VEVENT
UID:151761
DTSTAMP:20251125T120000
DTSTART:20251125T120000
DTEND:20251209T200300
SUMMARY:Toys\, Trains & Dolls | December 9\, 2025 at 8:00 PM
LOCATION:501 Fairgrounds Road\, Hatfield\, PA 19440\, US
DESCRIPTION:The Toys\, Trains & Doll Auction features an extensive select
 ion of O gauge and HO gauge model railroading material from 
 major manufacturers. O gauge entries include MTH locomotives
 \, Lionel train cars\, Lionel steam engines\, and Williams Read
 ing engines\, along with freight and passenger cars from Amtr
 ak\, Reading\, Pennsylvania Railroad\, B&O\, Santa Fe\, New York 
 Central\, and other railroads. HO gauge offerings include eng
 ines and rolling stock by Rivarossi\, Bachmann\, Walthers\, AHM
 \, Accurail\, Roundhouse\, Mantua\, Bowser\, and Athearn\, spannin
 g steam and diesel models\, commemorative sets\, and boxed fre
 ight car groups. The auction also includes transformers\, pow
 er packs\, track lots\, buildings\, signals\, bridges\, and addit
 ional layout accessories in both O and HO gauge. Mixed rolli
 ng-stock groupings offer variety for collectors and layout b
 uilders. Beyond trains\, the sale includes diecast toys from 
 Hot Wheels\, Matchbox\, Corgi\, Tonka\, Dinky\, and Johnny Lightn
 ing\, along with action figures\, slot cars\, model kits\, vinta
 ge toy groupings\, dolls\, Steiff\, American Girls\, and more do
 lls. This auction offers a strong selection of model trains 
 with supporting toy\, diecast\, and doll categories\, ideal for
  collectors.
URL:https://www.alderferauction.com/auctions/detail/bw151761
SEQUENCE:1
END:VEVENT
END:VCALENDAR