BEGIN:VCALENDAR
VERSION:2.0
PRODID:-//ExpressionEngine Easy iCalendar plugin//NONSGML v2.0.1//EN
X-WR-TIMEZONE:America/New_York
X-WR-CALNAME:Upcoming Auctions
BEGIN:VEVENT
UID:151760
DTSTAMP:20251121T120000
DTSTART:20251121T120000
DTEND:20251204T200300
SUMMARY:Home & Decor | December 4\, 2025 at 8:00 PM
LOCATION:501 Fairgrounds Road\, Hatfield\, PA 19440\, US
DESCRIPTION:The Home & Decor Auction brings together more than four hu
 ndred lots that span decorative art\, furnishings\, and collec
 tible household items. The catalog opens with a broad select
 ion of prehistoric and Native American artifacts\, including 
 stone projectile points\, stone ax heads\, and pottery sherds\,
  which introduce the range of materials and eras represented
  throughout the sale. These early pieces lead naturally into
  a variety of carved sculptures and decorative objects in wo
 od\, metal\, and stone. Apothecary chests\, dollhouses\, and hum
 idors sit alongside a mix of shelves\, boxes\, and accent furn
 ishings that reflect different domestic uses. Ceramics and g
 lassware make up another substantial portion of the offering
 s\, including porcelain vases\, stoneware jugs\, cut glass bowl
 s\, pitchers\, and decorative figurines. Waterford and Kosta B
 oda crystal and glass table pieces appear with serving dishe
 s\, trays\, and planters. New York history is represented with
  portrait prints\, state and NYC maps\, documents\, publication
 s and Masonic regalia. Throughout the catalog\, lighting serv
 es as a connecting thread\, with brass and glass lamps\, sconc
 es\, chandeliers\, and candleholders appearing in multiple sec
 tions. The remaining lots include bookends\, baskets\, small s
 culptures\, cloisonné items\, and various decorative accessor
 ies. Together they round out a broad offering that reflects 
 the full scope of home décor\, art\, and collectible objects 
 included in this auction.
URL:https://www.alderferauction.com/auctions/detail/bw151760
SEQUENCE:1
END:VEVENT
END:VCALENDAR