BEGIN:VCALENDAR
VERSION:2.0
PRODID:-//ExpressionEngine Easy iCalendar plugin//NONSGML v2.0.1//EN
X-WR-TIMEZONE:America/New_York
X-WR-CALNAME:Upcoming Auctions
BEGIN:VEVENT
UID:151752
DTSTAMP:20251118T170000
DTSTART:20251118T170000
DTEND:20251202T190300
SUMMARY:Vehicles and Cycles | December 2\, 2025 at 7:00 PM
LOCATION:501 Fairgrounds Road\, Hatfield\, PA 19440\, US
DESCRIPTION:Our next Vehicle and Cycle auction is Tuesday\, December 2nd\,
  featuring a diverse lineup of classic and modern vehicles 
 and cycles: Ford Thunderbird\, 1970 Military Transport Vehic
 le\, 1972 Chevrolet K20 Pickup\, 1991 Acura Legend\, 1998 Harle
 y-Davidson FXSTC Motorcycle\, 1999 Porsche Carrera\, 2002 Harl
 ey-Davidson FLSTFI Motorcycle\, 2004 Ford F250 Pickup Truck\, 
 2010 Ford F-150 XLT Pickup Truck\, 2015 Volkswagen Golf Hatch
 back TDI\, and a 2017 GMC Acadia Multipurpose Vehicle (MPV).
URL:https://www.alderferauction.com/auctions/detail/bw151752
SEQUENCE:1
END:VEVENT
END:VCALENDAR