BEGIN:VCALENDAR
VERSION:2.0
PRODID:-//ExpressionEngine Easy iCalendar plugin//NONSGML v2.0.1//EN
X-WR-TIMEZONE:America/Indiana/Indianapolis
X-WR-CALNAME:Upcoming Auctions
BEGIN:VEVENT
UID:151525
DTSTAMP:20251201T100000
DTSTART:20251201T100000
DTEND:20251201T110000
SUMMARY:Our Doylestown Location Has Moved!
LOCATION:3359 Durham Rd\, Doylestown\, PA 18902\, US
DESCRIPTION:We are pleased to welcome you to our Doylestown location at 
 3359 Durham Road. While our address has changed\, our 60-year
  commitment to the Doylestown community remains the same. Jo
 in us at our new office for our signature events\, including 
 Walk-In Wednesday Valuations and Meet the Specialist on the 
 1st Thursday of every month. Alderfer Auction continues to p
 rovide expert valuation and selling services for Fine Art & 
 Décor\, Jewelry\, Mid-Century Modern\, Coins\, Vehicles\, Firear
 ms\, Musical Instruments\, Collectibles\, and Estate Sales. Ap
 pointments Preferred | Walk-Ins Welcome Schedule: preview@al
 derferauction.com or 215-393-3000
URL:https://www.alderferauction.com/auctions/detail/bw151525
SEQUENCE:1
END:VEVENT
END:VCALENDAR