BEGIN:VCALENDAR
VERSION:2.0
PRODID:-//ExpressionEngine Easy iCalendar plugin//NONSGML v2.0.1//EN
X-WR-TIMEZONE:America/New_York
X-WR-CALNAME:Upcoming Auctions
BEGIN:VEVENT
UID:151491
DTSTAMP:20251110T104100
DTSTART:20251110T104100
DTEND:20251124T200300
SUMMARY:Estate Sale | Bally\, PA | November 24\, 2025 at 8:00PM
LOCATION:523 Main Street\, Bally\, PA 19503\, US
DESCRIPTION:This estate saleÂ features over two hundred lots of toys\, do
 lls\, antiques\, and home furnishings. Highlights include doll
 houses with miniature furniture\, bisque-head dolls\, and coll
 ectible figuresÂ such as a Steiff teddy bearÂ and Howdy Dood
 y doll. The catalog includes furniture\, ceramic and glass dÃ
 ©cor\, porcelain lamps\, clocks\, and mirrors\, along with oil p
 aintings\, prints\, and vintage photographs. Additional items 
 include toy cars\, games\, die-cast models\, and train pieces\, 
 as well as candlesticks\, bookends\, and planters. Â 
URL:https://www.alderferauction.com/auctions/detail/bw151491
SEQUENCE:1
END:VEVENT
END:VCALENDAR