BEGIN:VCALENDAR
VERSION:2.0
PRODID:-//ExpressionEngine Easy iCalendar plugin//NONSGML v2.0.1//EN
X-WR-TIMEZONE:America/New_York
X-WR-CALNAME:Upcoming Auctions
BEGIN:VEVENT
UID:151122
DTSTAMP:20251106T092800
DTSTART:20251106T092800
DTEND:20251120T200300
SUMMARY:Home & Decor | November 20\, 2025 at 8:00 pm
LOCATION:501 Fairgrounds Road\, Hatfield\, PA 19440\, US
DESCRIPTION:The Home & Decor Auction includes nearly four hundred lots
  of decorative art\, furnishings\, and home accessories. Highl
 ights feature cast metal and iron sculptures\, book ends\, man
 tel clocks\, and portrait plaques attributed to D. Weaver\, al
 ongside gingerbread and carriage clocks. The catalog include
 s framed prints\, historical portraits\, maps and city engravi
 ngs\, as well as oil paintings on canvas and board. Pottery a
 nd glassware offerings include vases\, garden fish\, Fiesta W
 are\, cut glass bowls\, figurines\, and Rae Dunn tableware. Lig
 hting selections include stained glass table lamps\, wall sc
 onces\, chandelier\, a Victorian hall lamp and vintage brass a
 nd glass candle holders\, while smaller home accents feature 
 reproduction mechanical banks\, enamelware\, ladies accessorie
 s\, and textiles.  
URL:https://www.alderferauction.com/auctions/detail/bw151122
SEQUENCE:1
END:VEVENT
END:VCALENDAR