BEGIN:VCALENDAR
VERSION:2.0
PRODID:-//ExpressionEngine Easy iCalendar plugin//NONSGML v2.0.1//EN
X-WR-TIMEZONE:America/New_York
X-WR-CALNAME:Upcoming Auctions
BEGIN:VEVENT
UID:150955
DTSTAMP:20251113T090000
DTSTART:20251113T090000
DTEND:20251125T190300
SUMMARY:Silver | November 25\, 2025 at 7:00 PM
LOCATION:501 Fairgrounds Road\, Hatfield\, PA 19440\, US
DESCRIPTION:Alderfer Auction's November Silver sale features American\, B
 ritish\, and Continental silver from established makers spann
 ing the 18th through 20th centuries. American manufacturers 
 dominate with pieces from Gorham\, Wallace\, Reed & Barton\, Ti
 ffany\, and Towle across multiple patterns. Regional makers i
 ncluding Frank M. Whiting\, Ferdinand Fuchs and Bros.\, and Wo
 odside add variety\, while retailer markings from J.E. Caldwe
 ll and Bailey & Co. provide provenance. Highlights include a
  Bailey & Co. coin silver olive pattern serving spoon and a 
 Frank M. Whiting bread tray dated 1900. American coin silver
  from Joseph Lownes\, James Watts\, and Robert and William Wil
 son represents pre-industrial craftsmanship. European silver
  features German pieces by Ernst Gideon Bek and Storck & Sin
 sheimer\, including an elaborate Hanau dresser box\, alongside
  Dutch monkey spoons with figural decoration and French piec
 es. British silver spans Georgian through Edwardian periods 
 with a Moses Brent wine funnel from 1792 and a Victorian muf
 fineer.
URL:https://www.alderferauction.com/auctions/detail/bw150955
SEQUENCE:1
END:VEVENT
END:VCALENDAR