BEGIN:VCALENDAR
VERSION:2.0
PRODID:-//ExpressionEngine Easy iCalendar plugin//NONSGML v2.0.1//EN
X-WR-TIMEZONE:America/New_York
X-WR-CALNAME:Upcoming Auctions
BEGIN:VEVENT
UID:150487
DTSTAMP:20251113T160000
DTSTART:20251113T160000
DTEND:20251113T160000
SUMMARY:Sold! Real Estate For Auction | 210 Buckwalter Road\, Phoenix
 ville\, PA 19460 | November 13\, 2025 at 4:00 PM
LOCATION:210 Buckwalter Road\, Phoenixville\, PA 19460\, US
DESCRIPTION:WE SELL REAL ESTATE! Welcome to a magnificent piece of Chest
 er County history! This authentic 1819 Stone Farmhouse\, set 
 on 2 rolling acres in highly desirable Phoenixville\, offers 
 a rare opportunity to own a cherished family estate ready fo
 r its next chapter. This home is a treasure trove of authent
 ic farmhouse details\, providing the foundation for your desi
 gn dreams. Located in a prime spot in Phoenixville\, just min
 utes from the vibrant downtown shops and dining\, with easy a
 ccess to the Turnpike and a quick commute to the Malvern cor
 porate center area. The University of Valley Forge and Techn
 ical College High School are also within walking distance. D
 on't miss the chance to own this Stone Farmhouse with unmatc
 hed location and limitless character. 
URL:https://www.alderferauction.com/auctions/detail/bw150487
SEQUENCE:1
END:VEVENT
END:VCALENDAR