BEGIN:VCALENDAR
VERSION:2.0
PRODID:-//ExpressionEngine Easy iCalendar plugin//NONSGML v2.0.0//EN
X-WR-TIMEZONE:America/New_York
X-WR-CALNAME:Upcoming Auctions
BEGIN:VEVENT
UID:150040
DTSTAMP:20251105T150000
DTSTART:20251105T150000
DTEND:20251119T190300
SUMMARY:Discovery Art | November 19\,  2025 at 7:00 PM
LOCATION:501 Fairgrounds Road\, Hatfield\, PA 19440\, US
DESCRIPTION:TheÂ Discovery Art AuctionÂ features works of modern and con
 temporary art\, including paintings\, prints andÂ drawings. Ar
 tists represented includeÂ Louis Tavelli\,Â Anthony Ferrara\,Â
  John Gwinn\,Â Wolfgang Roth\,Â Alfonso Caliendo\,Â Alvaro Bara
 gli\,Â Frederick Childs\, andÂ Nano Lopez. Additional works by
 Â Terry Redlin\,Â Lee Everett\,Â John Reilly\, and theÂ Abingto
 n Art CenterÂ broaden the range of material. The catalog inc
 ludesÂ oils on canvas and board\,Â pastel drawings\,Â etchings
 \,Â lithographs\, andÂ mixed-media compositions\, reflecting a 
 variety of abstract\, figural\, and architectural styles. Toge
 ther\, these works capture the breadth of twentieth- and twen
 ty-first-century art\, blending diverse techniques and creati
 ve perspectives.
URL:https://www.alderferauction.com/auctions/detail/bw150040
SEQUENCE:1
END:VEVENT
END:VCALENDAR