BEGIN:VCALENDAR
VERSION:2.0
PRODID:-//ExpressionEngine Easy iCalendar plugin//NONSGML v2.0.1//EN
X-WR-TIMEZONE:America/New_York
X-WR-CALNAME:Upcoming Auctions
BEGIN:VEVENT
UID:149482
DTSTAMP:20251111T163200
DTSTART:20251111T163200
DTEND:20251125T200300
SUMMARY:Jewelry | November 25\, 2025 at 8:00 PM
LOCATION:501 Fairgrounds Road\, Hatfield\, PA 19440\, US
DESCRIPTION:The Jewelry Auction includes more than two hundred lots of
  fine and vintage jewelry in gold\, silver\, and gemstone sett
 ings. Highlights include 14k and 18k gold rings\, diamond a
 nd sapphire designs\, and gold pins such as Order of the E
 astern Star and West Chester State Normal School examples
 . The catalog features gold and silver necklaces\, bracelet
 s\, and charm pieces\, along with cameos\, pearl strands\, an
 d multi-gemstone jewelry set with amethyst\, opal\, garnet\,
  and turquoise. Also included are Bulova\, Waltham\, and El
 gin watches\, as well as cufflinks\, lockets\, cross pendant
 s\, and costume jewelry assortments.
URL:https://www.alderferauction.com/auctions/detail/bw149482
SEQUENCE:1
END:VEVENT
END:VCALENDAR