BEGIN:VCALENDAR
VERSION:2.0
PRODID:-//ExpressionEngine Easy iCalendar plugin//NONSGML v2.0.1//EN
X-WR-TIMEZONE:America/New_York
X-WR-CALNAME:Upcoming Auctions
BEGIN:VEVENT
UID:148104
DTSTAMP:20251006T150000
DTSTART:20251006T150000
DTEND:20251021T200300
SUMMARY:Pop Culture | Disney\, Marvel & DC\, and Warner Bros. | Octobe
 r 21\, 2025 at 8:00 PM
LOCATION:{location}
DESCRIPTION:Alderfer’s Pop Culture Auction includes artwork\, figurines
 \, décor\, trains\, books\, and memorabilia from Disney\, Marvel
 \, DC\, Star Wars\, Anime\, and related franchises. The sale fea
 tures framed and limited-edition art from Snow White\, Cinder
 ella\, Haunted Mansion\, and Peter Pan\, alongside Marvel and S
 tar Wars prints. Figurines and models include Jim Shore Disn
 ey Traditions pieces\, Showcase Collection figures\, and Funko
  Pop! Vinyls spanning Disney\, Marvel\, DC\, Anime\, and Warner 
 Brothers cartoon characters. Lionel Disney train sets such a
 s Walt Disney World 50th Anniversary and Holiday Express app
 ear with related accessories. Holiday and home décor includ
 e Christmas and Halloween ornaments\, snow globes\, Haunted Ma
 nsion décor\, and lighted displays. Books and games feature 
 Disney100 publications\, D23 boxes\, Monopoly editions\, and Lo
 rcana and Pokémon trading cards. Props and replicas include
  Star Wars lightsabers\, Marvel and DC display pieces\, and co
 llector pins.
URL:https://www.alderferauction.com/auctions/detail/bw148104
SEQUENCE:1
END:VEVENT
END:VCALENDAR