BEGIN:VCALENDAR
VERSION:2.0
PRODID:-//ExpressionEngine Easy iCalendar plugin//NONSGML v2.0.1//EN
X-WR-TIMEZONE:America/New_York
X-WR-CALNAME:Upcoming Auctions
BEGIN:VEVENT
UID:134439
DTSTAMP:20250424T100001
DTSTART:20250424T100001
DTEND:20250424T110001
SUMMARY:Collectors | April 24\, 2025 at 10:00 AM
LOCATION:{location}
DESCRIPTION:Auction highlights include a selection of cameos\, an 18k yel
 low gold micro mosaic pin with earrings\, Chinese Kingfisher 
 feather jewelry\, gold rings\, a 1.5 carat platinum diamond an
 d emerald ring\, and vintage gemstone pieces. Decorative arts
  include a Japanese cloisonné vase by Namikawa Yasuyuki fro
 m the Meiji–Taisho period\, a celadon-glazed Cong-form vase
 \, a Chinese rose quartz Pixiu\, and a copper horse weathervan
 e. Additional decoratives include Chinese Canton and Nanking
  porcelain\, snuff bottles\, oyster plates\, and Satsuma. The 
 sale also features select furniture to include Charles Limbe
 rt and Stickley Bros. rockers and a reclaimed jailhouse door
  coffee table. Novelty items to include a Maytag Toy Racer\; 
 SN: 670 with Maytag Multi-Motor hit & miss engine\, a Trek Co
 mmemorative Bicycle\, a Wurlitzer “One More Time” 1015 Bu
 bble Jukebox\, and a collection of Franklin Mint sterling sil
 ver collectibles. Artists represented include Ernest De Nagy
 \, Antoine Blanchard\, Henry Martin Gasser\, Benton Murdoch Spr
 uance\, Giovanni Battista Piranesi\, Yarnall Abbott\, Hayley Le
 ver\, Moses Soyer\, Walter Emerson Baum\, Christopher Willett\, 
 Bill Bell\, and an original Woodstock poster.
URL:https://www.alderferauction.com/auctions/detail/bw134439
SEQUENCE:1
END:VEVENT
END:VCALENDAR