BEGIN:VCALENDAR
VERSION:2.0
PRODID:-//ExpressionEngine Easy iCalendar plugin//NONSGML v2.0.1//EN
X-WR-TIMEZONE:America/New_York
X-WR-CALNAME:Upcoming Auctions
BEGIN:VEVENT
UID:132350
DTSTAMP:20241206T194100
DTSTART:20241206T194100
DTEND:20241216T200300
SUMMARY:Estate Sale | Doylestown\, PA | December 16\, 2024 at 8:00 PM
LOCATION:{location}
DESCRIPTION:This estate auction showcases a premier collection of Steiff
  plush animals and toys\, featuring rare pieces from the 1950
 s through modern limited editions. Highlights include a life
 -sized Steiff zebra\, Disney character collaborations\, and co
 mplete themed sets like the Millennium Band and New Orleans 
 Band. The sale features an impressive array of Steinbach nut
 crackers\, including Presidential series figures and literary
  characters. The auction encompasses workshop equipment\, inc
 luding vintage and modern power tools from DeWalt and Crafts
 man\, plus a 1961 White Field Boss tractor. Artist Anita Gron
 endahl's work is well-represented through limited edition se
 rigraphs and original watercolors. Additional categories inc
 lude Summer Classics outdoor furniture\, garden equipment\, vi
 ntage sporting goods\, and household items. Notable collectio
 ns include blue and white porcelain from makers like Delft a
 nd Hutschenreuther\, vintage kitchenware\, and extensive book 
 collections covering various subjects from gardening to avia
 tion.
URL:https://www.alderferauction.com/auctions/detail/bw132350
SEQUENCE:1
END:VEVENT
END:VCALENDAR