BEGIN:VCALENDAR
VERSION:2.0
PRODID:-//ExpressionEngine Easy iCalendar plugin//NONSGML v2.0.1//EN
X-WR-TIMEZONE:America/New_York
X-WR-CALNAME:Upcoming Auctions
BEGIN:VEVENT
UID:129328
DTSTAMP:20241011T120000
DTSTART:20241011T120000
DTEND:20241023T200300
SUMMARY:Museum Collection of Vintage Clothing and Textiles | October
  23\, 2024 at 8:00 PM
LOCATION:501 Fairgrounds Road\, Hatfield\, PA 19440\, US
DESCRIPTION:This auction showcases a diverse collection of vintage and a
 ntique clothing\, accessories\, and textiles dating from the 1
 860s to the 1980s. The range includes women's dresses from v
 arious eras\, men's formal wear\, and children's clothing. Not
 able items feature pieces from designers like Vogue Couturie
 r and retailers such as John Wanamaker. Accessories are abun
 dant\, with antique beaded bags\, hats\, gloves\, and fans. The 
 textile selection offers quilts\, shawls\, and coverlets\, incl
 uding 1880s crazy quilts and embroidered piano shawls. Vinta
 ge sewing enthusiasts will find a variety of supplies\, inclu
 ding laces\, trims\, and yard goods. The collection also inclu
 des lingerie\, fur pieces\, and household linens. Many items o
 riginate from Philadelphia retailers\, providing insight into
  the city's fashion history. This auction offers a comprehen
 sive look at over a century of fashion evolution and craftsm
 anship\, appealing to collectors\, designers\, and vintage enth
 usiasts alike.
URL:https://www.alderferauction.com/auctions/detail/bw129328
SEQUENCE:1
END:VEVENT
END:VCALENDAR