BEGIN:VCALENDAR
VERSION:2.0
PRODID:-//ExpressionEngine Easy iCalendar plugin//NONSGML v2.0.0//EN
X-WR-TIMEZONE:America/New_York
X-WR-CALNAME:Upcoming Auctions
BEGIN:VEVENT
UID:112406
DTSTAMP:20231207T190300
DTSTART:20231207T190300
DTEND:20231220T190300
SUMMARY:Discovery Art | December 20\, 2023 at 7:00 PM
LOCATION:501 Fairgrounds Road\, Hatfiled\, PA 19440\, US
DESCRIPTION:This art auction features a variety of pieces from accomplis
 hed artists spanning over a century of works. Highlights inc
 lude several Christopher G. Willett oil paintings such as a 
 southwestern landscape and a NYC cityscape. Watercolors and 
 prints appear from Lisa Muddiman Gray\, Ann C. Marinelli with
  complementary seascapes and sea life subjects. A colorful c
 ut-out painting on wood by Dan Shupe presents a woman's head
  within an image. Historic works surface as well including l
 ithographs and prints from legendary Frederic Remington and 
 N.C. Wyeth presented in rich hunting\, prospecting and weathe
 r scenes. Unsigned pieces include a delicate pastel depictin
 g young French girls with roses and a vigorous color pencil 
 barnyard landscape. Groupings appear as well such as a set o
 f 5 Currier & Ives lithographs portraying nostalgic themes o
 f home\, wilderness and seasons. Andrew Wyeth’s expressive 
 realist vision comes through in 2 prints showcasing his icon
 ic regionalist settings titled Big Room and Wolf Rivers. A t
 heorem painting clustered with pears and a guardian angel li
 thograph make an engaging pair. The sale promises bidder dis
 covery of both emergent talents and artistic pillars.
URL:https://www.alderferauction.com/auctions/detail/bw112406
SEQUENCE:1
END:VEVENT
END:VCALENDAR