BEGIN:VCALENDAR
VERSION:2.0
PRODID:-//ExpressionEngine Easy iCalendar plugin//NONSGML v2.0.0//EN
X-WR-TIMEZONE:America/New_York
X-WR-CALNAME:Upcoming Auctions
BEGIN:VEVENT
UID:112073
DTSTAMP:20231212T100001
DTSTART:20231212T100001
DTEND:20231212T110001
SUMMARY:Coins and Currency | December 12\, 2023 at 10:00 AM
LOCATION:501 Fairgrounds Road\, Hatfield\, PA 19440\, US
DESCRIPTION:This diverse auction features over 375 lots of coins\, curren
 cy\, medals and exonumia spanning American history as well as
  foreign items. Early American coins include half cents from
  1803 to 1850\, large cents from 1797 to 1857\, and early smal
 l cents like Flying Eagle and Indian Head types. One key rar
 ity is an 1808 half cent graded Very Fine with an inverted r
 everse. Mid-19th century classics offered include Liberty Se
 ated coinage like an 1843 Seated dollar graded Very Fine and
  an 1858-O Seated half in Very Good. Late 19th century highl
 ights include 1897-S\, 1898-O and 1904-O Barber halves along 
 with an 1893-O Morgan silver dollar in Fine. The auction has
  a nice selection of early 20th century gold with a 1915 Ind
 ian Head $5 graded AU and 1910-D Saint Gaudens double eagle 
 graded BU. An MS64 1928 Saint highlights modern classic gold
 . Featured classic commemoratives include a 1918 Illinois an
 d 1934 Texas half dollar\, both BU. Modern commemoratives lik
 e a 1992 Columbus Quincentenary set with clad\, silver and go
 ld coins are also included. Numerous mint and proof sets fro
 m the 1950s to 1990s provide collectible examples of modern 
 U.S. coinage. These include proof specimens like a PR65 1964
  Accented Hair Kennedy half along with mint state gems like 
 an MS64 1904-O Morgan. The sale has currency and paper money
  as well. Obsolete bank notes\, Confederate money and large s
 ize silver certificates from the early 20th century are up f
 or grabs. Modern small size notes include Hawaiian emergency
  issues from 1935. There are also Colonial notes like 1777 $
 3 printed by John Dunlap along with various fractional curre
 ncy. Foreign coins and exonumia are also well represented. M
 edals\, tokens\, Love tokens and counter stamped or hand-engra
 ved coins provide extra collectability. There is ancient coi
 nage along with hammered silver as well. More modern world c
 oins and sets provide international interest and appeal. Wit
 h such a vast array of coins\, currency\, medals and exonumia\,
  this auction promises something for just about every numism
 atist and collector.
URL:https://www.alderferauction.com/auctions/detail/bw112073
SEQUENCE:1
END:VEVENT
END:VCALENDAR