BEGIN:VCALENDAR
VERSION:2.0
PRODID:-//ExpressionEngine Easy iCalendar plugin//NONSGML v2.0.0//EN
X-WR-TIMEZONE:America/New_York
X-WR-CALNAME:Upcoming Auctions
BEGIN:VEVENT
UID:112064
DTSTAMP:20231213T100000
DTSTART:20231213T100000
DTEND:20231213T110000
SUMMARY:Trains | December 13\, 2023 at 10:00 AM
LOCATION:501 Fairgrounds Road\, Hatfield\, PA 19440\, US
DESCRIPTION:This train auction features a wide selection of G gauge LGB 
 trains including sought-after limited edition steam locomoti
 ves and diesel engines. Highlights include the LGB Golden Sp
 ike 150th Anniversary set #1\, limited to only 299 pieces\, co
 nsisting of two highly detailed steam engines - the Union Pa
 cific 119 locomotive and Central Pacific Jupiter locomotive 
 - that commemorate the completion of the Transcontinental Ra
 ilroad. Number 29 out of 500 of the beautiful wooden boxed D
 &RG K-28 #20831 steam locomotive is being offered. Another r
 are find is the wooden boxed LGB/Aster Hudson 4-6-4 steam lo
 comotive #186 out of 600 made. Five more LGB/Aster engine se
 ts come with decorative wooden display cases showcasing stun
 ning paint and detailing. Workhorse LGB steam locomotives of
 fered are the Sumpter Valley Mallet 2-6-6-2\, Mikado 2-8-2\, P
 ennsylvania 2-6-0\, and Geared Steam Engine. Diesel power is 
 on hand too - several F7 A/B Santa Fe diesel sets\, an LGB F7
 B Pennsylvania unit\, and other roadnames. Modern motive powe
 r comes from a crocodile red RhB Ge 4/4 electric and an LGB 
 railroads workhorse track cleaning diesel. A live steam 0-6-
 0 Aster Frank rounds out the selection. The auction has some
 thing for everyone - passenger sets\, freight cars\, advertisi
 ng cars\, beer cars\, track and accessories\, buildings\, rail v
 ehicles\, ephemera\, transformers\, controllers\, steam whistles
 \, layout details like figures and lights - even some micro t
 rains and a shining brass switch lamp. With many one of a ki
 nd lots\, this is a rare opportunity to obtain some unique LG
 B trains and accessories. Bid high and bid often to take hom
 e these treasures before they disappear down the tracks!
URL:https://www.alderferauction.com/auctions/detail/bw112064
SEQUENCE:1
END:VEVENT
END:VCALENDAR