BEGIN:VCALENDAR
VERSION:2.0
PRODID:-//ExpressionEngine Easy iCalendar plugin//NONSGML v2.0.0//EN
X-WR-TIMEZONE:America/New_York
X-WR-CALNAME:Upcoming Auctions
BEGIN:VEVENT
UID:112016
DTSTAMP:20231129T190000
DTSTART:20231129T190000
DTEND:20231213T190300
SUMMARY:Discovery Art | December 13\, 2023 at 7:00 PM
LOCATION:501 Fairgrounds Road\, Hatfiled\, PA 19440\, US
DESCRIPTION:This discovery art auction features a wide variety of artwor
 ks spanning different mediums\, styles and time periods. High
 lights include two signed lithographs by renowned Native Ame
 rican artist Bev Doolittle\, including her popular print "A P
 rayer for Wild Things" numbered 28023 out of 65\,000. Other f
 eatured prints include two monographs by Gerry Seltzer\, titl
 ed "Autumn Flames" and "Summer Storm"\, as well as works by l
 ess widely collected artists like Ira Moskowitz\, Terauci Fuk
 utarp\, Ernest Versupuy and more. Oil paintings range from an
  unsigned work after Giulio Romano's "Madonna and Child with
  a Cat" to a large and bright still life of sunflowers surro
 unding two doves and a figure by an unnamed artist. Landscap
 es vary from an industrial river scene signed Wahlberg to a 
 coastal town vista signed Regier. Portraiture is also repres
 ented\, with fantasy portraits including an owl perched on a 
 man's shoulder as well as more traditional portraits of wome
 n. Watercolors highlight the work of Gail Bracegirdle with a
 bstract floral compositions. Also featured are atmospheric w
 atercolors of barns and covered bridges by Earl Handy. Other
  watercolors include an elder man smoking a pipe by Terauci 
 Fukutarp and a seascape with crashing waves signed Cyrardes.
  Sue Goldstein Elkins is represented with two figural engrav
 ings in small editions\, while the work of Mildred Barrett in
 cludes lithographs focused on family and summertime subjects
  as well as one large color print titled "Swing Set". A roll
 ed set of two family-themed lithographs offers buyers a more
  affordable way to purchase the artist's work. Several decor
 ative lots speak to collector's varied tastes\, like a pair o
 f Chinese pith paintings of scholars\, an antique print of a 
 clergyman by Jehan Georges Vibert\, and even a folky painting
  simply signed "Belgium-Ardennes" depicting a rooster. Unfra
 med works provide an accessible entry point for new buyers a
 longside mid-century\, old master and 19th century selections
 .
URL:https://www.alderferauction.com/auctions/detail/bw112016
SEQUENCE:1
END:VEVENT
END:VCALENDAR