BEGIN:VCALENDAR
VERSION:2.0
PRODID:-//ExpressionEngine Easy iCalendar plugin//NONSGML v2.0.0//EN
X-WR-TIMEZONE:America/New_York
X-WR-CALNAME:Upcoming Auctions
BEGIN:VEVENT
UID:111851
DTSTAMP:20231122T100000
DTSTART:20231122T100000
DTEND:20231212T200300
SUMMARY:Jewelry | December 12\, 2023 at 8:00 PM
LOCATION:501 Fairgrounds Road\, Hatfield\, PA 19440\, US
DESCRIPTION:This online only auction features a wide selection of fine j
 ewelry and watches including vintage and modern pieces from 
 sought-after brands. Browse an array of pendants\, earrings\, 
 rings\, necklaces and bracelets in 10K\, 14K\, and 18K gold fea
 turing diamonds\, gemstones\, and pearls. Gold jewelry highlig
 hts include diamond rings with central stones up to 9.2 cara
 ts\, ruby and diamond earrings and rings\, and pearl accented 
 gold necklaces and pins. Modern designers showcased include 
 Tiffany & Co. sterling silver like an apple tag keyring\, Hei
 di Daus costume jewelry with Swarovski crystals\, and Lagos c
 aviar bracelets with 18K gold accents. Vintage finds include
  a rare 1914 brass box gifted from British Princess Mary to 
 WWII soldiers and early 1900s silver items like a heavy cuf
 f bracelet engraved "Solid Silver Garden of the Gods Colorad
 o" and Mexican sterling silver earrings and pendants accente
 d with turquoise\, amythest\, and citrine stones. There are al
 so watches from mid-century brands like Longines and Bulova
  with diamond and gold accents on bands and faces. The wide 
 variety of fine jewelry and timepieces from all eras allow y
 ou to find your signature statement piece!
URL:https://www.alderferauction.com/auctions/detail/bw111851
SEQUENCE:1
END:VEVENT
END:VCALENDAR