BEGIN:VCALENDAR
VERSION:2.0
PRODID:-//ExpressionEngine Easy iCalendar plugin//NONSGML v2.0.1//EN
X-WR-TIMEZONE:America/New_York
X-WR-CALNAME:Upcoming Auctions
BEGIN:VEVENT
UID:38531
DTSTAMP:20190520T120000
DTSTART:20190520T120000
DTEND:20190603T200000
SUMMARY:Alderfer Online - Pottstown\, PA: 6-3-19 | Featuring John Est
 erle Tall Case Clock\, Dry Sink\, Slant Front Desk\, Primitives
  & More!
LOCATION:1219 Sheep Hill Road\, Pottstown\, PA 19465\, US
DESCRIPTION:Bid now through Monday\, June 3rd. This auction will begin cl
 osing at 8:00 pm at a rate of 5 lots per minute.
URL:https://www.alderferauction.com/auctions/detail/alderfer-onl
 ine-pottstown-pa-6-3-19-featuring-john-esterle-t-bw38531
SEQUENCE:1
END:VEVENT
END:VCALENDAR