BEGIN:VCALENDAR
VERSION:2.0
PRODID:-//ExpressionEngine Easy iCalendar plugin//NONSGML v2.0.1//EN
X-WR-TIMEZONE:America/New_York
X-WR-CALNAME:Upcoming Auctions
BEGIN:VEVENT
UID:38961
DTSTAMP:20190516T120000
DTSTART:20190516T120000
DTEND:20190529T200000
SUMMARY:Alderfer Online - New Hope\, PA Part 2: 5-29-19 | Featuring B
 ronze Garden Statues\, Designer Handbags\, 1888 Alpine Safe Co
 . Safe\, Slot Machines & More!
LOCATION:47 Red Fox Drive\, New Hope\, PA 18938\, US
DESCRIPTION:Bid now through Wednesday\, May 29th. This auction will begin
  closing at 8:00 pm at a rate of 5 lots per minute.
URL:https://www.alderferauction.com/auctions/detail/alderfer-onl
 ine-new-hope-pa-part-2-5-29-19-featuring-bronze-bw38961
SEQUENCE:1
END:VEVENT
END:VCALENDAR