BEGIN:VCALENDAR
VERSION:2.0
PRODID:-//ExpressionEngine Easy iCalendar plugin//NONSGML v2.0.1//EN
X-WR-TIMEZONE:America/New_York
X-WR-CALNAME:Upcoming Auctions
BEGIN:VEVENT
UID:38593
DTSTAMP:20190515T170000
DTSTART:20190515T170000
DTEND:20190528T200000
SUMMARY:Alderfer Online - New Hope\, PA Part 1: 5-28-19 | Beautiful N
 ew Hope Estate Featuring Howard Miller Grandfather Clock\, Ma
 rble Top Buffet\, Artwork Collection\, Marble Bust & More!
LOCATION:47 Red Fox Drive\, New Hope\, PA 18938\, US
DESCRIPTION:Bid now through Tuesday\, May 28th. This auction will begin c
 losing at 8:00 pm at a rate of 5 lots per minute.
URL:https://www.alderferauction.com/auctions/detail/alderfer-onl
 ine-new-hope-pa-part-1-5-28-19-beautiful-new-hop-bw38593
SEQUENCE:1
END:VEVENT
END:VCALENDAR