BEGIN:VCALENDAR
VERSION:2.0
PRODID:-//ExpressionEngine Easy iCalendar plugin//NONSGML v2.0.0//EN
X-WR-TIMEZONE:America/New_York
X-WR-CALNAME:Upcoming Auctions
BEGIN:VEVENT
UID:40792
DTSTAMP:20190805T170000
DTSTART:20190805T170000
DTEND:20190820T200000
SUMMARY:Alderfer Online - Americana Auction: 8-20-19
LOCATION:501 Fairgrounds Road\, Hatfield\, PA 19440\, US
DESCRIPTION:Bid Online through Tuesday\, August 20th at 8:00 PM. This auc
 tion will close at a rate of 5 lots per minute. Americana Au
 ction Features Antique 10' Farm House Table\, Scrubbed Pine 
 Step Back Cupboard\, Oak Ice Chest\, Seller’s Cabinet\, Enter
 prise Coffee Mill\, Punched Tin Pie Safe\, Windsor Chairs\, Spo
 ol Cabinet\, Butter Churns\, Antique Chocolate Molds\, Stonewar
 e Crocks & Jugs\, Copper Cow Weathervane\, Butter Crocks\, Rock
 ingham Glazed Yellowware\, Spongeware Bowls\, Wooden Firkins\, 
 Copper Kettles\, Antique Coverlets & Quilts\, Spice Jars\, Cani
 sters\, & Much More!
URL:https://www.alderferauction.com/auctions/detail/alderfer-onl
 ine-americana-auction-8-20-19-bw40792
SEQUENCE:1
END:VEVENT
END:VCALENDAR