BEGIN:VCALENDAR
VERSION:2.0
PRODID:-//ExpressionEngine Easy iCalendar plugin//NONSGML v2.0.1//EN
X-WR-TIMEZONE:America/New_York
X-WR-CALNAME:Upcoming Auctions
BEGIN:VEVENT
UID:45473
DTSTAMP:20191212T170000
DTSTART:20191212T170000
DTEND:20191230T200000
SUMMARY:Alderfer Online - Allentown\, PA | December 30 at 8:00PM
LOCATION:830 Dorset Road\, Allentown\, PA 18104\, US
DESCRIPTION:Bid now through Monday\, December 30th. This auction will beg
 in closing at 8:00 pm at a rate of 5 lots per minute.
URL:https://www.alderferauction.com/auctions/detail/alderfer-onl
 ine-allentown-pa-december-30-800pm-bw45473
SEQUENCE:1
END:VEVENT
END:VCALENDAR