BEGIN:VCALENDAR
VERSION:2.0
PRODID:-//ExpressionEngine Easy iCalendar plugin//NONSGML v2.0.0//EN
X-WR-TIMEZONE:America/New_York
X-WR-CALNAME:Upcoming Auctions
BEGIN:VEVENT
UID:41762
DTSTAMP:20190827T160000
DTSTART:20190827T160000
DTEND:20190916T180000
SUMMARY:Alderfer Online - Fiestaware Auction: 9-16-19
LOCATION:501 Fairgrounds Road\, Hatfield\, PA 19440\, US
DESCRIPTION:Bid Online now through September 16th. This auction will beg
 in to close at 6:00 PM at a rate of 5 lots per minute. Selec
 tion of items include a Fiestaware sculpture\, tea pots\, mixi
 ng bowls\, sugar bowls and creamers\, serving dishes\, pitchers
 \, plates\, and more.
URL:https://www.alderferauction.com/auctions/detail/a-o-fiestawa
 re-auction-bw41762
SEQUENCE:1
END:VEVENT
END:VCALENDAR